BEGIN:VCALENDAR
VERSION:2.0
PRODID:-//TSG Sulzbach - Tischtennis - ECPv6.15.20//NONSGML v1.0//EN
CALSCALE:GREGORIAN
METHOD:PUBLISH
X-WR-CALNAME:TSG Sulzbach - Tischtennis
X-ORIGINAL-URL:https://tischtennis.tsg-sulzbach.de
X-WR-CALDESC:Veranstaltungen für TSG Sulzbach - Tischtennis
REFRESH-INTERVAL;VALUE=DURATION:PT1H
X-Robots-Tag:noindex
X-PUBLISHED-TTL:PT1H
BEGIN:VTIMEZONE
TZID:Europe/Helsinki
BEGIN:DAYLIGHT
TZOFFSETFROM:+0200
TZOFFSETTO:+0300
TZNAME:EEST
DTSTART:20250330T010000
END:DAYLIGHT
BEGIN:STANDARD
TZOFFSETFROM:+0300
TZOFFSETTO:+0200
TZNAME:EET
DTSTART:20251026T010000
END:STANDARD
BEGIN:DAYLIGHT
TZOFFSETFROM:+0200
TZOFFSETTO:+0300
TZNAME:EEST
DTSTART:20260329T010000
END:DAYLIGHT
BEGIN:STANDARD
TZOFFSETFROM:+0300
TZOFFSETTO:+0200
TZNAME:EET
DTSTART:20261025T010000
END:STANDARD
BEGIN:DAYLIGHT
TZOFFSETFROM:+0200
TZOFFSETTO:+0300
TZNAME:EEST
DTSTART:20270328T010000
END:DAYLIGHT
BEGIN:STANDARD
TZOFFSETFROM:+0300
TZOFFSETTO:+0200
TZNAME:EET
DTSTART:20271031T010000
END:STANDARD
END:VTIMEZONE
BEGIN:VEVENT
DTSTART;TZID=Europe/Helsinki:20260423T200000
DTEND;TZID=Europe/Helsinki:20260423T200000
DTSTAMP:20260423T013142
CREATED:20260102T114248Z
LAST-MODIFIED:20260102T114248Z
UID:6833-1776974400-1776974400@tischtennis.tsg-sulzbach.de
SUMMARY:TSG 1888 Eddersheim V-TSG Sulzbach 1888 IV / E1.KK
DESCRIPTION:Auswärtsspiel
URL:https://tischtennis.tsg-sulzbach.de/event/tsg-1888-eddersheim-v-tsg-sulzbach-1888-iv-e1-kk/
CATEGORIES:E1.KK
END:VEVENT
BEGIN:VEVENT
DTSTART;TZID=Europe/Helsinki:20260423T201500
DTEND;TZID=Europe/Helsinki:20260423T201500
DTSTAMP:20260423T013142
CREATED:20260102T114249Z
LAST-MODIFIED:20260102T114249Z
UID:6834-1776975300-1776975300@tischtennis.tsg-sulzbach.de
SUMMARY:TSG Sulzbach 1888 VI-VfN Blau-Rot Hattersheim / E2.KK
DESCRIPTION:Heimspiel
URL:https://tischtennis.tsg-sulzbach.de/event/tsg-sulzbach-1888-vi-vfn-blau-rot-hattersheim-e2-kk/
CATEGORIES:E2.KK
END:VEVENT
BEGIN:VEVENT
DTSTART;TZID=Europe/Helsinki:20260423T201500
DTEND;TZID=Europe/Helsinki:20260423T201500
DTSTAMP:20260423T013142
CREATED:20260102T114301Z
LAST-MODIFIED:20260102T114301Z
UID:6835-1776975300-1776975300@tischtennis.tsg-sulzbach.de
SUMMARY:TSG Sulzbach 1888-TSG 1888 Eddersheim II / EBL
DESCRIPTION:Heimspiel
URL:https://tischtennis.tsg-sulzbach.de/event/tsg-sulzbach-1888-tsg-1888-eddersheim-ii-ebl/
CATEGORIES:EBL
END:VEVENT
END:VCALENDAR