BEGIN:VCALENDAR
VERSION:2.0
PRODID:-//TSG Sulzbach - Tischtennis - ECPv6.15.20//NONSGML v1.0//EN
CALSCALE:GREGORIAN
METHOD:PUBLISH
X-WR-CALNAME:TSG Sulzbach - Tischtennis
X-ORIGINAL-URL:https://tischtennis.tsg-sulzbach.de
X-WR-CALDESC:Veranstaltungen für TSG Sulzbach - Tischtennis
REFRESH-INTERVAL;VALUE=DURATION:PT1H
X-Robots-Tag:noindex
X-PUBLISHED-TTL:PT1H
BEGIN:VTIMEZONE
TZID:Europe/Helsinki
BEGIN:DAYLIGHT
TZOFFSETFROM:+0200
TZOFFSETTO:+0300
TZNAME:EEST
DTSTART:20250330T010000
END:DAYLIGHT
BEGIN:STANDARD
TZOFFSETFROM:+0300
TZOFFSETTO:+0200
TZNAME:EET
DTSTART:20251026T010000
END:STANDARD
BEGIN:DAYLIGHT
TZOFFSETFROM:+0200
TZOFFSETTO:+0300
TZNAME:EEST
DTSTART:20260329T010000
END:DAYLIGHT
BEGIN:STANDARD
TZOFFSETFROM:+0300
TZOFFSETTO:+0200
TZNAME:EET
DTSTART:20261025T010000
END:STANDARD
BEGIN:DAYLIGHT
TZOFFSETFROM:+0200
TZOFFSETTO:+0300
TZNAME:EEST
DTSTART:20270328T010000
END:DAYLIGHT
BEGIN:STANDARD
TZOFFSETFROM:+0300
TZOFFSETTO:+0200
TZNAME:EET
DTSTART:20271031T010000
END:STANDARD
END:VTIMEZONE
BEGIN:VEVENT
DTSTART;TZID=Europe/Helsinki:20260424T201500
DTEND;TZID=Europe/Helsinki:20260424T201500
DTSTAMP:20260424T131606
CREATED:20260102T114303Z
LAST-MODIFIED:20260102T114303Z
UID:6836-1777061700-1777061700@tischtennis.tsg-sulzbach.de
SUMMARY:SG DJK Hattersheim IV-TSG Sulzbach 1888 VII / E3.KK
DESCRIPTION:Auswärtsspiel
URL:https://tischtennis.tsg-sulzbach.de/event/sg-djk-hattersheim-iv-tsg-sulzbach-1888-vii-e3-kk/
CATEGORIES:E3.KK
END:VEVENT
BEGIN:VEVENT
DTSTART;TZID=Europe/Helsinki:20260424T201500
DTEND;TZID=Europe/Helsinki:20260424T201500
DTSTAMP:20260424T131606
CREATED:20260102T114305Z
LAST-MODIFIED:20260102T114305Z
UID:6837-1777061700-1777061700@tischtennis.tsg-sulzbach.de
SUMMARY:SG 1862 Anspach V-TSG Sulzbach 1888 II / EBK
DESCRIPTION:Auswärtsspiel
URL:https://tischtennis.tsg-sulzbach.de/event/sg-1862-anspach-v-tsg-sulzbach-1888-ii-ebk/
CATEGORIES:EBK
END:VEVENT
BEGIN:VEVENT
DTSTART;TZID=Europe/Helsinki:20260424T201500
DTEND;TZID=Europe/Helsinki:20260424T201500
DTSTAMP:20260424T131606
CREATED:20260102T114305Z
LAST-MODIFIED:20260102T114305Z
UID:6838-1777061700-1777061700@tischtennis.tsg-sulzbach.de
SUMMARY:TSG Sulzbach 1888 III-TTV Eschborn-Niederhöchstadt 2021 V / EKL
DESCRIPTION:Heimspiel
URL:https://tischtennis.tsg-sulzbach.de/event/tsg-sulzbach-1888-iii-ttv-eschborn-niederhoechstadt-2021-v-ekl/
CATEGORIES:EKL
END:VEVENT
END:VCALENDAR